BEGIN:VCALENDAR
VERSION:2.0
PRODID:-//JK-Kustannus ja koulutus Oy - ECPv6.15.20//NONSGML v1.0//EN
CALSCALE:GREGORIAN
METHOD:PUBLISH
X-WR-CALNAME:JK-Kustannus ja koulutus Oy
X-ORIGINAL-URL:https://www.jaanakiviluote.fi
X-WR-CALDESC:Tapahtumat JK-Kustannus ja koulutus Oy
REFRESH-INTERVAL;VALUE=DURATION:PT1H
X-Robots-Tag:noindex
X-PUBLISHED-TTL:PT1H
BEGIN:VTIMEZONE
TZID:Europe/Helsinki
BEGIN:DAYLIGHT
TZOFFSETFROM:+0200
TZOFFSETTO:+0300
TZNAME:EEST
DTSTART:20200329T010000
END:DAYLIGHT
BEGIN:STANDARD
TZOFFSETFROM:+0300
TZOFFSETTO:+0200
TZNAME:EET
DTSTART:20201025T010000
END:STANDARD
BEGIN:DAYLIGHT
TZOFFSETFROM:+0200
TZOFFSETTO:+0300
TZNAME:EEST
DTSTART:20210328T010000
END:DAYLIGHT
BEGIN:STANDARD
TZOFFSETFROM:+0300
TZOFFSETTO:+0200
TZNAME:EET
DTSTART:20211031T010000
END:STANDARD
BEGIN:DAYLIGHT
TZOFFSETFROM:+0200
TZOFFSETTO:+0300
TZNAME:EEST
DTSTART:20220327T010000
END:DAYLIGHT
BEGIN:STANDARD
TZOFFSETFROM:+0300
TZOFFSETTO:+0200
TZNAME:EET
DTSTART:20221030T010000
END:STANDARD
END:VTIMEZONE
BEGIN:VEVENT
DTSTART;TZID=Europe/Helsinki:20210128T090000
DTEND;TZID=Europe/Helsinki:20210128T120000
DTSTAMP:20260420T135848
CREATED:20210111T172136Z
LAST-MODIFIED:20210112T100041Z
UID:2418-1611824400-1611835200@www.jaanakiviluote.fi
SUMMARY:Haastavat tilanteet varhaiskasvatuksessa - miten toimia?
DESCRIPTION:Var­hais­kas­va­tustyön arjessa jou­dutaan toi­sinaan koh­taamaan tilan­teita\, jotka saat­tavat tuntua haas­ta­vilta ja siten myös lisäävät ammat­ti­laisten työn kuormittavuutta. \nMiten toimia\, kun lapsi käyt­täytyy uhkaa­vasti tai aggres­sii­vi­sesti tai lapsen kie­len­käyttö on sopi­ma­tonta tai muutoin huo­les­tut­tavaa? Miten toimia\, kun yhteistyö huol­tajien kanssa on haastavaa? \nKivi­luote on toi­minut noin 30 vuoden ajan ope­tus­teh­tä­vissä\, mm. luo­kan­opet­tajana\, laaja-alaisena eri­tyi­so­pet­tajana sekä eri­tyis­luo­kan­opet­tajana etenkin tunne-elämän ja käyt­täy­ty­misen haas­teita omaavien lasten parissa. Kivi­luote on kou­lut­tanut jo pitkään sekä var­hais­kas­va­tuksen että perus­o­pe­tuksen hen­ki­löstöä eri alue­hal­lin­to­vi­ras­tojen\, kuntien\, kou­lujen ja yhtei­söjen tilaa­missa kou­lu­tuk­sissa sekä itse jär­jes­tä­missään kou­lu­tuk­sissa. Kou­lu­tusten suosio on ollut suuri\, sillä kaikki halukkaat eivät aina ole mah­tuneet koulutuksiin! \nKOU­LU­TUKSEN SISÄLTÖ \nLapsen sosio­emo­tio­naa­linen kom­pe­tenssi ja sen kehit­ty­misen riski- ja suo­jaavat tekijät \nTem­pe­ra­ment­ti­piirteet ja käyttäytyminen \nLasten haastava käyt­täy­ty­minen (aggres­sii­visuus ja sopi­maton kie­len­käyttö\, uhmakkuus\, levot­tomuus\, vetäy­tyvyys ja hal­lit­se­mat­tomat tun­teen­pur­kaukset) ja sosio­emo­tio­naa­lisen tuen tarve \nTyöyh­teisön toimintakulttuuri \nHaas­teel­linen yhteistyö huol­tajien kanssa \nKou­lutus sisältää tulos­tet­tavan dia­ma­te­ri­aalin\, joka lähe­tetään kou­lu­tuksen jälkeen osal­lis­tujan sähköpostiin. \n  \nOsal­lis­tujien kom­mentteja Jaana Kivi­luotteen verkkokoulutuksista: \n”Kiitos kou­lut­ta­jalle! Oli erin­omainen kou­lutus näin etä­näkin (#128522#)” \n”Kiitos antoi­sasta päi­västä! Uskon saa­neeni paljon hyvää mate­ri­aalia työhöni.” \n”Kiitos hyvästä täs­mä­lääk­keestä akuuttiin tilanteeseen.”
URL:https://www.jaanakiviluote.fi/tapahtuma/haastavat-tilanteet-varhaiskasvatuksessa-miten-toimia/
CATEGORIES:HAASTAVAT TILANTEET VARHAISKASVATUKSESSA - MITEN TOIMIA?
ORGANIZER;CN="JK-Kustannus ja koulutus Oy":MAILTO:jaana@jaanakiviluote.fi
END:VEVENT
END:VCALENDAR